Workbook

Sheet Шахматка
A1: Шахматка — поменяйте дату начала: | E1: 46327
A2: Номер | B2: =$E$1 | C2: =B2+1 | D2: =C2+1 | E2: =D2+1 | F2: =E2+1 | G2: =F2+1 | H2: =G2+1 | I2: =H2+1 | J2: =I2+1 | ... AF2: =AE2+1
A3: 101 | B3: =IF(COUNTIFS(Брони!$A$2:$A$300,$A3,Брони!$C$2:$C$300,"<="&B$2,Брони!$D$2:$D$300,">"&B$2)=0,"",IFERROR(INDEX(Брони!$B$1:$B$300,MAXIFS(Брони!$J$2:$J$300,Брони!$A$2:$A$300,$A3,Брони!$C$2:$C$300,"<="&B$2,Брони!$D$2:$D$300,">"&B$2)),"●")) | C3: =IF(COUNTIFS(Брони!$A$2:$A$300,$A3,Брони!$C$2:$C$300,"<="&C$2,Брони!$D$2:$D$300,">"&C$2)=0,"",IFERROR(INDEX(Брони!$B$1:$B$300,MAXIFS(Брони!$J$2:$J$300,Брони!$A$2:$A$300,$A3,Брони!$C$2:$C$300,"<="&C$2,Брони!$D$2:$D$300,">"&C$2)),"●")) | D3: =IF(COUNTIFS(Брони!$A$2:$A$300,$A3,Брони!$C$2:$C$300,"<="&D$2,Брони!$D$2:$D$300,">"&D$2)=0,"",IFERROR(INDEX(Брони!$B$1:$B$300,MAXIFS(Брони!$J$2:$J$300,Брони!$A$2:$A$300,$A3,Брони!$C$2:$C$300,"<="&D$2,Брони!$D$2:$D$300,">"&D$2)),"●")) | E3: =IF(COUNTIFS(Брони!$A$2:$A$300,$A3,Брони!$C$2:$C$300,"<="&E$2,Брони!$D$2:$D$300,">"&E$2)=0,"",IFERROR(INDEX(Брони!$B$1:$B$300,MAXIFS(Брони!$J$2:$J$300,Брони!$A$2:$A$300,$A3,Брони!$C$2:$C$300,"<="&E$2,Брони!$D$2:$D$300,">"&E$2)),"●")) | F3: =IF(COUNTIFS(Брони!$A$2:$A$300,$A3,Брони!$C$2:$C$300,"<="&F$2,Брони!$D$2:$D$300,">"&F$2)=0,"",IFERROR(INDEX(Брони!$B$1:$B$300,MAXIFS(Брони!$J$2:$J$300,Брони!$A$2:$A$300,$A3,Брони!$C$2:$C$300,"<="&F$2,Брони!$D$2:$D$300,">"&F$2)),"●")) | G3: =IF(COUNTIFS(Брони!$A$2:$A$300,$A3,Брони!$C$2:$C$300,"<="&G$2,Брони!$D$2:$D$300,">"&G$2)=0,"",IFERROR(INDEX(Брони!$B$1:$B$300,MAXIFS(Брони!$J$2:$J$300,Брони!$A$2:$A$300,$A3,Брони!$C$2:$C$300,"<="&G$2,Брони!$D$2:$D$300,">"&G$2)),"●")) | H3: =IF(COUNTIFS(Брони!$A$2:$A$300,$A3,Брони!$C$2:$C$300,"<="&H$2,Брони!$D$2:$D$300,">"&H$2)=0,"",IFERROR(INDEX(Брони!$B$1:$B$300,MAXIFS(Брони!$J$2:$J$300,Брони!$A$2:$A$300,$A3,Брони!$C$2:$C$300,"<="&H$2,Брони!$D$2:$D$300,">"&H$2)),"●")) | I3: =IF(COUNTIFS(Брони!$A$2:$A$300,$A3,Брони!$C$2:$C$300,"<="&I$2,Брони!$D$2:$D$300,">"&I$2)=0,"",IFERROR(INDEX(Брони!$B$1:$B$300,MAXIFS(Брони!$J$2:$J$300,Брони!$A$2:$A$300,$A3,Брони!$C$2:$C$300,"<="&I$2,Брони!$D$2:$D$300,">"&I$2)),"●")) | ... AF3: =IF(COUNTIFS(Брони!$A$2:$A$300,$A3,Брони!$C$2:$C$300,"<="&AF$2,Брони!$D$2:$D$300,">"&AF$2)=0,"",IFERROR(INDEX(Брони!$B$1:$B$300,MAXIFS(Брони!$J$2:$J$300,Брони!$A$2:$A$300,$A3,Брони!$C$2:$C$300,"<="&AF$2,Брони!$D$2:$D$300,">"&AF$2)),"●"))
A4: 102 | B4: =IF(COUNTIFS(Брони!$A$2:$A$300,$A4,Брони!$C$2:$C$300,"<="&B$2,Брони!$D$2:$D$300,">"&B$2)=0,"",IFERROR(INDEX(Брони!$B$1:$B$300,MAXIFS(Брони!$J$2:$J$300,Брони!$A$2:$A$300,$A4,Брони!$C$2:$C$300,"<="&B$2,Брони!$D$2:$D$300,">"&B$2)),"●")) | C4: =IF(COUNTIFS(Брони!$A$2:$A$300,$A4,Брони!$C$2:$C$300,"<="&C$2,Брони!$D$2:$D$300,">"&C$2)=0,"",IFERROR(INDEX(Брони!$B$1:$B$300,MAXIFS(Брони!$J$2:$J$300,Брони!$A$2:$A$300,$A4,Брони!$C$2:$C$300,"<="&C$2,Брони!$D$2:$D$300,">"&C$2)),"●")) | D4: =IF(COUNTIFS(Брони!$A$2:$A$300,$A4,Брони!$C$2:$C$300,"<="&D$2,Брони!$D$2:$D$300,">"&D$2)=0,"",IFERROR(INDEX(Брони!$B$1:$B$300,MAXIFS(Брони!$J$2:$J$300,Брони!$A$2:$A$300,$A4,Брони!$C$2:$C$300,"<="&D$2,Брони!$D$2:$D$300,">"&D$2)),"●")) | E4: =IF(COUNTIFS(Брони!$A$2:$A$300,$A4,Брони!$C$2:$C$300,"<="&E$2,Брони!$D$2:$D$300,">"&E$2)=0,"",IFERROR(INDEX(Брони!$B$1:$B$300,MAXIFS(Брони!$J$2:$J$300,Брони!$A$2:$A$300,$A4,Брони!$C$2:$C$300,"<="&E$2,Брони!$D$2:$D$300,">"&E$2)),"●")) | F4: =IF(COUNTIFS(Брони!$A$2:$A$300,$A4,Брони!$C$2:$C$300,"<="&F$2,Брони!$D$2:$D$300,">"&F$2)=0,"",IFERROR(INDEX(Брони!$B$1:$B$300,MAXIFS(Брони!$J$2:$J$300,Брони!$A$2:$A$300,$A4,Брони!$C$2:$C$300,"<="&F$2,Брони!$D$2:$D$300,">"&F$2)),"●")) | G4: =IF(COUNTIFS(Брони!$A$2:$A$300,$A4,Брони!$C$2:$C$300,"<="&G$2,Брони!$D$2:$D$300,">"&G$2)=0,"",IFERROR(INDEX(Брони!$B$1:$B$300,MAXIFS(Брони!$J$2:$J$300,Брони!$A$2:$A$300,$A4,Брони!$C$2:$C$300,"<="&G$2,Брони!$D$2:$D$300,">"&G$2)),"●")) | H4: =IF(COUNTIFS(Брони!$A$2:$A$300,$A4,Брони!$C$2:$C$300,"<="&H$2,Брони!$D$2:$D$300,">"&H$2)=0,"",IFERROR(INDEX(Брони!$B$1:$B$300,MAXIFS(Брони!$J$2:$J$300,Брони!$A$2:$A$300,$A4,Брони!$C$2:$C$300,"<="&H$2,Брони!$D$2:$D$300,">"&H$2)),"●")) | I4: =IF(COUNTIFS(Брони!$A$2:$A$300,$A4,Брони!$C$2:$C$300,"<="&I$2,Брони!$D$2:$D$300,">"&I$2)=0,"",IFERROR(INDEX(Брони!$B$1:$B$300,MAXIFS(Брони!$J$2:$J$300,Брони!$A$2:$A$300,$A4,Брони!$C$2:$C$300,"<="&I$2,Брони!$D$2:$D$300,">"&I$2)),"●")) | ... AF4: =IF(COUNTIFS(Брони!$A$2:$A$300,$A4,Брони!$C$2:$C$300,"<="&AF$2,Брони!$D$2:$D$300,">"&AF$2)=0,"",IFERROR(INDEX(Брони!$B$1:$B$300,MAXIFS(Брони!$J$2:$J$300,Брони!$A$2:$A$300,$A4,Брони!$C$2:$C$300,"<="&AF$2,Брони!$D$2:$D$300,">"&AF$2)),"●"))
A5: 103 | B5: =IF(COUNTIFS(Брони!$A$2:$A$300,$A5,Брони!$C$2:$C$300,"<="&B$2,Брони!$D$2:$D$300,">"&B$2)=0,"",IFERROR(INDEX(Брони!$B$1:$B$300,MAXIFS(Брони!$J$2:$J$300,Брони!$A$2:$A$300,$A5,Брони!$C$2:$C$300,"<="&B$2,Брони!$D$2:$D$300,">"&B$2)),"●")) | C5: =IF(COUNTIFS(Брони!$A$2:$A$300,$A5,Брони!$C$2:$C$300,"<="&C$2,Брони!$D$2:$D$300,">"&C$2)=0,"",IFERROR(INDEX(Брони!$B$1:$B$300,MAXIFS(Брони!$J$2:$J$300,Брони!$A$2:$A$300,$A5,Брони!$C$2:$C$300,"<="&C$2,Брони!$D$2:$D$300,">"&C$2)),"●")) | D5: =IF(COUNTIFS(Брони!$A$2:$A$300,$A5,Брони!$C$2:$C$300,"<="&D$2,Брони!$D$2:$D$300,">"&D$2)=0,"",IFERROR(INDEX(Брони!$B$1:$B$300,MAXIFS(Брони!$J$2:$J$300,Брони!$A$2:$A$300,$A5,Брони!$C$2:$C$300,"<="&D$2,Брони!$D$2:$D$300,">"&D$2)),"●")) | E5: =IF(COUNTIFS(Брони!$A$2:$A$300,$A5,Брони!$C$2:$C$300,"<="&E$2,Брони!$D$2:$D$300,">"&E$2)=0,"",IFERROR(INDEX(Брони!$B$1:$B$300,MAXIFS(Брони!$J$2:$J$300,Брони!$A$2:$A$300,$A5,Брони!$C$2:$C$300,"<="&E$2,Брони!$D$2:$D$300,">"&E$2)),"●")) | F5: =IF(COUNTIFS(Брони!$A$2:$A$300,$A5,Брони!$C$2:$C$300,"<="&F$2,Брони!$D$2:$D$300,">"&F$2)=0,"",IFERROR(INDEX(Брони!$B$1:$B$300,MAXIFS(Брони!$J$2:$J$300,Брони!$A$2:$A$300,$A5,Брони!$C$2:$C$300,"<="&F$2,Брони!$D$2:$D$300,">"&F$2)),"●")) | G5: =IF(COUNTIFS(Брони!$A$2:$A$300,$A5,Брони!$C$2:$C$300,"<="&G$2,Брони!$D$2:$D$300,">"&G$2)=0,"",IFERROR(INDEX(Брони!$B$1:$B$300,MAXIFS(Брони!$J$2:$J$300,Брони!$A$2:$A$300,$A5,Брони!$C$2:$C$300,"<="&G$2,Брони!$D$2:$D$300,">"&G$2)),"●")) | H5: =IF(COUNTIFS(Брони!$A$2:$A$300,$A5,Брони!$C$2:$C$300,"<="&H$2,Брони!$D$2:$D$300,">"&H$2)=0,"",IFERROR(INDEX(Брони!$B$1:$B$300,MAXIFS(Брони!$J$2:$J$300,Брони!$A$2:$A$300,$A5,Брони!$C$2:$C$300,"<="&H$2,Брони!$D$2:$D$300,">"&H$2)),"●")) | I5: =IF(COUNTIFS(Брони!$A$2:$A$300,$A5,Брони!$C$2:$C$300,"<="&I$2,Брони!$D$2:$D$300,">"&I$2)=0,"",IFERROR(INDEX(Брони!$B$1:$B$300,MAXIFS(Брони!$J$2:$J$300,Брони!$A$2:$A$300,$A5,Брони!$C$2:$C$300,"<="&I$2,Брони!$D$2:$D$300,">"&I$2)),"●")) | ... AF5: =IF(COUNTIFS(Брони!$A$2:$A$300,$A5,Брони!$C$2:$C$300,"<="&AF$2,Брони!$D$2:$D$300,">"&AF$2)=0,"",IFERROR(INDEX(Брони!$B$1:$B$300,MAXIFS(Брони!$J$2:$J$300,Брони!$A$2:$A$300,$A5,Брони!$C$2:$C$300,"<="&AF$2,Брони!$D$2:$D$300,">"&AF$2)),"●"))
A6: 104 | B6: =IF(COUNTIFS(Брони!$A$2:$A$300,$A6,Брони!$C$2:$C$300,"<="&B$2,Брони!$D$2:$D$300,">"&B$2)=0,"",IFERROR(INDEX(Брони!$B$1:$B$300,MAXIFS(Брони!$J$2:$J$300,Брони!$A$2:$A$300,$A6,Брони!$C$2:$C$300,"<="&B$2,Брони!$D$2:$D$300,">"&B$2)),"●")) | C6: =IF(COUNTIFS(Брони!$A$2:$A$300,$A6,Брони!$C$2:$C$300,"<="&C$2,Брони!$D$2:$D$300,">"&C$2)=0,"",IFERROR(INDEX(Брони!$B$1:$B$300,MAXIFS(Брони!$J$2:$J$300,Брони!$A$2:$A$300,$A6,Брони!$C$2:$C$300,"<="&C$2,Брони!$D$2:$D$300,">"&C$2)),"●")) | D6: =IF(COUNTIFS(Брони!$A$2:$A$300,$A6,Брони!$C$2:$C$300,"<="&D$2,Брони!$D$2:$D$300,">"&D$2)=0,"",IFERROR(INDEX(Брони!$B$1:$B$300,MAXIFS(Брони!$J$2:$J$300,Брони!$A$2:$A$300,$A6,Брони!$C$2:$C$300,"<="&D$2,Брони!$D$2:$D$300,">"&D$2)),"●")) | E6: =IF(COUNTIFS(Брони!$A$2:$A$300,$A6,Брони!$C$2:$C$300,"<="&E$2,Брони!$D$2:$D$300,">"&E$2)=0,"",IFERROR(INDEX(Брони!$B$1:$B$300,MAXIFS(Брони!$J$2:$J$300,Брони!$A$2:$A$300,$A6,Брони!$C$2:$C$300,"<="&E$2,Брони!$D$2:$D$300,">"&E$2)),"●")) | F6: =IF(COUNTIFS(Брони!$A$2:$A$300,$A6,Брони!$C$2:$C$300,"<="&F$2,Брони!$D$2:$D$300,">"&F$2)=0,"",IFERROR(INDEX(Брони!$B$1:$B$300,MAXIFS(Брони!$J$2:$J$300,Брони!$A$2:$A$300,$A6,Брони!$C$2:$C$300,"<="&F$2,Брони!$D$2:$D$300,">"&F$2)),"●")) | G6: =IF(COUNTIFS(Брони!$A$2:$A$300,$A6,Брони!$C$2:$C$300,"<="&G$2,Брони!$D$2:$D$300,">"&G$2)=0,"",IFERROR(INDEX(Брони!$B$1:$B$300,MAXIFS(Брони!$J$2:$J$300,Брони!$A$2:$A$300,$A6,Брони!$C$2:$C$300,"<="&G$2,Брони!$D$2:$D$300,">"&G$2)),"●")) | H6: =IF(COUNTIFS(Брони!$A$2:$A$300,$A6,Брони!$C$2:$C$300,"<="&H$2,Брони!$D$2:$D$300,">"&H$2)=0,"",IFERROR(INDEX(Брони!$B$1:$B$300,MAXIFS(Брони!$J$2:$J$300,Брони!$A$2:$A$300,$A6,Брони!$C$2:$C$300,"<="&H$2,Брони!$D$2:$D$300,">"&H$2)),"●")) | I6: =IF(COUNTIFS(Брони!$A$2:$A$300,$A6,Брони!$C$2:$C$300,"<="&I$2,Брони!$D$2:$D$300,">"&I$2)=0,"",IFERROR(INDEX(Брони!$B$1:$B$300,MAXIFS(Брони!$J$2:$J$300,Брони!$A$2:$A$300,$A6,Брони!$C$2:$C$300,"<="&I$2,Брони!$D$2:$D$300,">"&I$2)),"●")) | ... AF6: =IF(COUNTIFS(Брони!$A$2:$A$300,$A6,Брони!$C$2:$C$300,"<="&AF$2,Брони!$D$2:$D$300,">"&AF$2)=0,"",IFERROR(INDEX(Брони!$B$1:$B$300,MAXIFS(Брони!$J$2:$J$300,Брони!$A$2:$A$300,$A6,Брони!$C$2:$C$300,"<="&AF$2,Брони!$D$2:$D$300,">"&AF$2)),"●"))
A7: 201 | B7: =IF(COUNTIFS(Брони!$A$2:$A$300,$A7,Брони!$C$2:$C$300,"<="&B$2,Брони!$D$2:$D$300,">"&B$2)=0,"",IFERROR(INDEX(Брони!$B$1:$B$300,MAXIFS(Брони!$J$2:$J$300,Брони!$A$2:$A$300,$A7,Брони!$C$2:$C$300,"<="&B$2,Брони!$D$2:$D$300,">"&B$2)),"●")) | C7: =IF(COUNTIFS(Брони!$A$2:$A$300,$A7,Брони!$C$2:$C$300,"<="&C$2,Брони!$D$2:$D$300,">"&C$2)=0,"",IFERROR(INDEX(Брони!$B$1:$B$300,MAXIFS(Брони!$J$2:$J$300,Брони!$A$2:$A$300,$A7,Брони!$C$2:$C$300,"<="&C$2,Брони!$D$2:$D$300,">"&C$2)),"●")) | D7: =IF(COUNTIFS(Брони!$A$2:$A$300,$A7,Брони!$C$2:$C$300,"<="&D$2,Брони!$D$2:$D$300,">"&D$2)=0,"",IFERROR(INDEX(Брони!$B$1:$B$300,MAXIFS(Брони!$J$2:$J$300,Брони!$A$2:$A$300,$A7,Брони!$C$2:$C$300,"<="&D$2,Брони!$D$2:$D$300,">"&D$2)),"●")) | E7: =IF(COUNTIFS(Брони!$A$2:$A$300,$A7,Брони!$C$2:$C$300,"<="&E$2,Брони!$D$2:$D$300,">"&E$2)=0,"",IFERROR(INDEX(Брони!$B$1:$B$300,MAXIFS(Брони!$J$2:$J$300,Брони!$A$2:$A$300,$A7,Брони!$C$2:$C$300,"<="&E$2,Брони!$D$2:$D$300,">"&E$2)),"●")) | F7: =IF(COUNTIFS(Брони!$A$2:$A$300,$A7,Брони!$C$2:$C$300,"<="&F$2,Брони!$D$2:$D$300,">"&F$2)=0,"",IFERROR(INDEX(Брони!$B$1:$B$300,MAXIFS(Брони!$J$2:$J$300,Брони!$A$2:$A$300,$A7,Брони!$C$2:$C$300,"<="&F$2,Брони!$D$2:$D$300,">"&F$2)),"●")) | G7: =IF(COUNTIFS(Брони!$A$2:$A$300,$A7,Брони!$C$2:$C$300,"<="&G$2,Брони!$D$2:$D$300,">"&G$2)=0,"",IFERROR(INDEX(Брони!$B$1:$B$300,MAXIFS(Брони!$J$2:$J$300,Брони!$A$2:$A$300,$A7,Брони!$C$2:$C$300,"<="&G$2,Брони!$D$2:$D$300,">"&G$2)),"●")) | H7: =IF(COUNTIFS(Брони!$A$2:$A$300,$A7,Брони!$C$2:$C$300,"<="&H$2,Брони!$D$2:$D$300,">"&H$2)=0,"",IFERROR(INDEX(Брони!$B$1:$B$300,MAXIFS(Брони!$J$2:$J$300,Брони!$A$2:$A$300,$A7,Брони!$C$2:$C$300,"<="&H$2,Брони!$D$2:$D$300,">"&H$2)),"●")) | I7: =IF(COUNTIFS(Брони!$A$2:$A$300,$A7,Брони!$C$2:$C$300,"<="&I$2,Брони!$D$2:$D$300,">"&I$2)=0,"",IFERROR(INDEX(Брони!$B$1:$B$300,MAXIFS(Брони!$J$2:$J$300,Брони!$A$2:$A$300,$A7,Брони!$C$2:$C$300,"<="&I$2,Брони!$D$2:$D$300,">"&I$2)),"●")) | ... AF7: =IF(COUNTIFS(Брони!$A$2:$A$300,$A7,Брони!$C$2:$C$300,"<="&AF$2,Брони!$D$2:$D$300,">"&AF$2)=0,"",IFERROR(INDEX(Брони!$B$1:$B$300,MAXIFS(Брони!$J$2:$J$300,Брони!$A$2:$A$300,$A7,Брони!$C$2:$C$300,"<="&AF$2,Брони!$D$2:$D$300,">"&AF$2)),"●"))
A8: 202 | B8: =IF(COUNTIFS(Брони!$A$2:$A$300,$A8,Брони!$C$2:$C$300,"<="&B$2,Брони!$D$2:$D$300,">"&B$2)=0,"",IFERROR(INDEX(Брони!$B$1:$B$300,MAXIFS(Брони!$J$2:$J$300,Брони!$A$2:$A$300,$A8,Брони!$C$2:$C$300,"<="&B$2,Брони!$D$2:$D$300,">"&B$2)),"●")) | C8: =IF(COUNTIFS(Брони!$A$2:$A$300,$A8,Брони!$C$2:$C$300,"<="&C$2,Брони!$D$2:$D$300,">"&C$2)=0,"",IFERROR(INDEX(Брони!$B$1:$B$300,MAXIFS(Брони!$J$2:$J$300,Брони!$A$2:$A$300,$A8,Брони!$C$2:$C$300,"<="&C$2,Брони!$D$2:$D$300,">"&C$2)),"●")) | D8: =IF(COUNTIFS(Брони!$A$2:$A$300,$A8,Брони!$C$2:$C$300,"<="&D$2,Брони!$D$2:$D$300,">"&D$2)=0,"",IFERROR(INDEX(Брони!$B$1:$B$300,MAXIFS(Брони!$J$2:$J$300,Брони!$A$2:$A$300,$A8,Брони!$C$2:$C$300,"<="&D$2,Брони!$D$2:$D$300,">"&D$2)),"●")) | E8: =IF(COUNTIFS(Брони!$A$2:$A$300,$A8,Брони!$C$2:$C$300,"<="&E$2,Брони!$D$2:$D$300,">"&E$2)=0,"",IFERROR(INDEX(Брони!$B$1:$B$300,MAXIFS(Брони!$J$2:$J$300,Брони!$A$2:$A$300,$A8,Брони!$C$2:$C$300,"<="&E$2,Брони!$D$2:$D$300,">"&E$2)),"●")) | F8: =IF(COUNTIFS(Брони!$A$2:$A$300,$A8,Брони!$C$2:$C$300,"<="&F$2,Брони!$D$2:$D$300,">"&F$2)=0,"",IFERROR(INDEX(Брони!$B$1:$B$300,MAXIFS(Брони!$J$2:$J$300,Брони!$A$2:$A$300,$A8,Брони!$C$2:$C$300,"<="&F$2,Брони!$D$2:$D$300,">"&F$2)),"●")) | G8: =IF(COUNTIFS(Брони!$A$2:$A$300,$A8,Брони!$C$2:$C$300,"<="&G$2,Брони!$D$2:$D$300,">"&G$2)=0,"",IFERROR(INDEX(Брони!$B$1:$B$300,MAXIFS(Брони!$J$2:$J$300,Брони!$A$2:$A$300,$A8,Брони!$C$2:$C$300,"<="&G$2,Брони!$D$2:$D$300,">"&G$2)),"●")) | H8: =IF(COUNTIFS(Брони!$A$2:$A$300,$A8,Брони!$C$2:$C$300,"<="&H$2,Брони!$D$2:$D$300,">"&H$2)=0,"",IFERROR(INDEX(Брони!$B$1:$B$300,MAXIFS(Брони!$J$2:$J$300,Брони!$A$2:$A$300,$A8,Брони!$C$2:$C$300,"<="&H$2,Брони!$D$2:$D$300,">"&H$2)),"●")) | I8: =IF(COUNTIFS(Брони!$A$2:$A$300,$A8,Брони!$C$2:$C$300,"<="&I$2,Брони!$D$2:$D$300,">"&I$2)=0,"",IFERROR(INDEX(Брони!$B$1:$B$300,MAXIFS(Брони!$J$2:$J$300,Брони!$A$2:$A$300,$A8,Брони!$C$2:$C$300,"<="&I$2,Брони!$D$2:$D$300,">"&I$2)),"●")) | ... AF8: =IF(COUNTIFS(Брони!$A$2:$A$300,$A8,Брони!$C$2:$C$300,"<="&AF$2,Брони!$D$2:$D$300,">"&AF$2)=0,"",IFERROR(INDEX(Брони!$B$1:$B$300,MAXIFS(Брони!$J$2:$J$300,Брони!$A$2:$A$300,$A8,Брони!$C$2:$C$300,"<="&AF$2,Брони!$D$2:$D$300,">"&AF$2)),"●"))
A9: 203 | B9: =IF(COUNTIFS(Брони!$A$2:$A$300,$A9,Брони!$C$2:$C$300,"<="&B$2,Брони!$D$2:$D$300,">"&B$2)=0,"",IFERROR(INDEX(Брони!$B$1:$B$300,MAXIFS(Брони!$J$2:$J$300,Брони!$A$2:$A$300,$A9,Брони!$C$2:$C$300,"<="&B$2,Брони!$D$2:$D$300,">"&B$2)),"●")) | C9: =IF(COUNTIFS(Брони!$A$2:$A$300,$A9,Брони!$C$2:$C$300,"<="&C$2,Брони!$D$2:$D$300,">"&C$2)=0,"",IFERROR(INDEX(Брони!$B$1:$B$300,MAXIFS(Брони!$J$2:$J$300,Брони!$A$2:$A$300,$A9,Брони!$C$2:$C$300,"<="&C$2,Брони!$D$2:$D$300,">"&C$2)),"●")) | D9: =IF(COUNTIFS(Брони!$A$2:$A$300,$A9,Брони!$C$2:$C$300,"<="&D$2,Брони!$D$2:$D$300,">"&D$2)=0,"",IFERROR(INDEX(Брони!$B$1:$B$300,MAXIFS(Брони!$J$2:$J$300,Брони!$A$2:$A$300,$A9,Брони!$C$2:$C$300,"<="&D$2,Брони!$D$2:$D$300,">"&D$2)),"●")) | E9: =IF(COUNTIFS(Брони!$A$2:$A$300,$A9,Брони!$C$2:$C$300,"<="&E$2,Брони!$D$2:$D$300,">"&E$2)=0,"",IFERROR(INDEX(Брони!$B$1:$B$300,MAXIFS(Брони!$J$2:$J$300,Брони!$A$2:$A$300,$A9,Брони!$C$2:$C$300,"<="&E$2,Брони!$D$2:$D$300,">"&E$2)),"●")) | F9: =IF(COUNTIFS(Брони!$A$2:$A$300,$A9,Брони!$C$2:$C$300,"<="&F$2,Брони!$D$2:$D$300,">"&F$2)=0,"",IFERROR(INDEX(Брони!$B$1:$B$300,MAXIFS(Брони!$J$2:$J$300,Брони!$A$2:$A$300,$A9,Брони!$C$2:$C$300,"<="&F$2,Брони!$D$2:$D$300,">"&F$2)),"●")) | G9: =IF(COUNTIFS(Брони!$A$2:$A$300,$A9,Брони!$C$2:$C$300,"<="&G$2,Брони!$D$2:$D$300,">"&G$2)=0,"",IFERROR(INDEX(Брони!$B$1:$B$300,MAXIFS(Брони!$J$2:$J$300,Брони!$A$2:$A$300,$A9,Брони!$C$2:$C$300,"<="&G$2,Брони!$D$2:$D$300,">"&G$2)),"●")) | H9: =IF(COUNTIFS(Брони!$A$2:$A$300,$A9,Брони!$C$2:$C$300,"<="&H$2,Брони!$D$2:$D$300,">"&H$2)=0,"",IFERROR(INDEX(Брони!$B$1:$B$300,MAXIFS(Брони!$J$2:$J$300,Брони!$A$2:$A$300,$A9,Брони!$C$2:$C$300,"<="&H$2,Брони!$D$2:$D$300,">"&H$2)),"●")) | I9: =IF(COUNTIFS(Брони!$A$2:$A$300,$A9,Брони!$C$2:$C$300,"<="&I$2,Брони!$D$2:$D$300,">"&I$2)=0,"",IFERROR(INDEX(Брони!$B$1:$B$300,MAXIFS(Брони!$J$2:$J$300,Брони!$A$2:$A$300,$A9,Брони!$C$2:$C$300,"<="&I$2,Брони!$D$2:$D$300,">"&I$2)),"●")) | ... AF9: =IF(COUNTIFS(Брони!$A$2:$A$300,$A9,Брони!$C$2:$C$300,"<="&AF$2,Брони!$D$2:$D$300,">"&AF$2)=0,"",IFERROR(INDEX(Брони!$B$1:$B$300,MAXIFS(Брони!$J$2:$J$300,Брони!$A$2:$A$300,$A9,Брони!$C$2:$C$300,"<="&AF$2,Брони!$D$2:$D$300,">"&AF$2)),"●"))
A10: 204 | B10: =IF(COUNTIFS(Брони!$A$2:$A$300,$A10,Брони!$C$2:$C$300,"<="&B$2,Брони!$D$2:$D$300,">"&B$2)=0,"",IFERROR(INDEX(Брони!$B$1:$B$300,MAXIFS(Брони!$J$2:$J$300,Брони!$A$2:$A$300,$A10,Брони!$C$2:$C$300,"<="&B$2,Брони!$D$2:$D$300,">"&B$2)),"●")) | C10: =IF(COUNTIFS(Брони!$A$2:$A$300,$A10,Брони!$C$2:$C$300,"<="&C$2,Брони!$D$2:$D$300,">"&C$2)=0,"",IFERROR(INDEX(Брони!$B$1:$B$300,MAXIFS(Брони!$J$2:$J$300,Брони!$A$2:$A$300,$A10,Брони!$C$2:$C$300,"<="&C$2,Брони!$D$2:$D$300,">"&C$2)),"●")) | D10: =IF(COUNTIFS(Брони!$A$2:$A$300,$A10,Брони!$C$2:$C$300,"<="&D$2,Брони!$D$2:$D$300,">"&D$2)=0,"",IFERROR(INDEX(Брони!$B$1:$B$300,MAXIFS(Брони!$J$2:$J$300,Брони!$A$2:$A$300,$A10,Брони!$C$2:$C$300,"<="&D$2,Брони!$D$2:$D$300,">"&D$2)),"●")) | E10: =IF(COUNTIFS(Брони!$A$2:$A$300,$A10,Брони!$C$2:$C$300,"<="&E$2,Брони!$D$2:$D$300,">"&E$2)=0,"",IFERROR(INDEX(Брони!$B$1:$B$300,MAXIFS(Брони!$J$2:$J$300,Брони!$A$2:$A$300,$A10,Брони!$C$2:$C$300,"<="&E$2,Брони!$D$2:$D$300,">"&E$2)),"●")) | F10: =IF(COUNTIFS(Брони!$A$2:$A$300,$A10,Брони!$C$2:$C$300,"<="&F$2,Брони!$D$2:$D$300,">"&F$2)=0,"",IFERROR(INDEX(Брони!$B$1:$B$300,MAXIFS(Брони!$J$2:$J$300,Брони!$A$2:$A$300,$A10,Брони!$C$2:$C$300,"<="&F$2,Брони!$D$2:$D$300,">"&F$2)),"●")) | G10: =IF(COUNTIFS(Брони!$A$2:$A$300,$A10,Брони!$C$2:$C$300,"<="&G$2,Брони!$D$2:$D$300,">"&G$2)=0,"",IFERROR(INDEX(Брони!$B$1:$B$300,MAXIFS(Брони!$J$2:$J$300,Брони!$A$2:$A$300,$A10,Брони!$C$2:$C$300,"<="&G$2,Брони!$D$2:$D$300,">"&G$2)),"●")) | H10: =IF(COUNTIFS(Брони!$A$2:$A$300,$A10,Брони!$C$2:$C$300,"<="&H$2,Брони!$D$2:$D$300,">"&H$2)=0,"",IFERROR(INDEX(Брони!$B$1:$B$300,MAXIFS(Брони!$J$2:$J$300,Брони!$A$2:$A$300,$A10,Брони!$C$2:$C$300,"<="&H$2,Брони!$D$2:$D$300,">"&H$2)),"●")) | I10: =IF(COUNTIFS(Брони!$A$2:$A$300,$A10,Брони!$C$2:$C$300,"<="&I$2,Брони!$D$2:$D$300,">"&I$2)=0,"",IFERROR(INDEX(Брони!$B$1:$B$300,MAXIFS(Брони!$J$2:$J$300,Брони!$A$2:$A$300,$A10,Брони!$C$2:$C$300,"<="&I$2,Брони!$D$2:$D$300,">"&I$2)),"●")) | ... AF10: =IF(COUNTIFS(Брони!$A$2:$A$300,$A10,Брони!$C$2:$C$300,"<="&AF$2,Брони!$D$2:$D$300,">"&AF$2)=0,"",IFERROR(INDEX(Брони!$B$1:$B$300,MAXIFS(Брони!$J$2:$J$300,Брони!$A$2:$A$300,$A10,Брони!$C$2:$C$300,"<="&AF$2,Брони!$D$2:$D$300,">"&AF$2)),"●"))
A12: Номера меняйте в столбце A (и в листе «Брони» — так же). Брони вносите только в лист «Брони» — шахматка закрасится сама.

Sheet Брони
A1: Номер | B1: Гость (имя) | C1: Заезд | D1: Выезд | E1: Ночей | F1: Сумма, ₽ | G1: Предоплата, ₽ | H1: Источник | I1: Комментарий | J1: служебн.
A2: 101 | B2: Анна | C2: 46328 | D2: 46331 | E2: =D2-C2 | F2: 9600 | G2: 3000 | H2: Сайт | I2: пример — удалите | J2: =ROW()
A3: 102 | B3: Сергей | C3: 46327 | D3: 46329 | E3: =D3-C3 | F3: 5000 | G3: 0 | H3: Авито | I3: пример — удалите | J3: =ROW()
A4: 103 | B4: Ольга | C4: 46330 | D4: 46335 | E4: =D4-C4 | F4: 16000 | G4: 5000 | H4: Суточно | I4: пример — удалите | J4: =ROW()
A5: 201 | B5: Игорь | C5: 46332 | D5: 46334 | E5: =D5-C5 | F5: 7200 | G5: 2000 | H5: Телефон | I5: пример — удалите | J5: =ROW()
A6: 101 | B6: Марина | C6: 46333 | D6: 46336 | E6: =D6-C6 | F6: 9900 | G6: 3300 | H6: Островок | I6: пример — удалите | J6: =ROW()
E7: =IF(AND(C7<>"",D7<>""),D7-C7,"") | J7: =ROW()
E8: =IF(AND(C8<>"",D8<>""),D8-C8,"") | J8: =ROW()
E9: =IF(AND(C9<>"",D9<>""),D9-C9,"") | J9: =ROW()
E10: =IF(AND(C10<>"",D10<>""),D10-C10,"") | J10: =ROW()
E11: =IF(AND(C11<>"",D11<>""),D11-C11,"") | J11: =ROW()
E12: =IF(AND(C12<>"",D12<>""),D12-C12,"") | J12: =ROW()
E13: =IF(AND(C13<>"",D13<>""),D13-C13,"") | J13: =ROW()
E14: =IF(AND(C14<>"",D14<>""),D14-C14,"") | J14: =ROW()
E15: =IF(AND(C15<>"",D15<>""),D15-C15,"") | J15: =ROW()
E16: =IF(AND(C16<>"",D16<>""),D16-C16,"") | J16: =ROW()
E17: =IF(AND(C17<>"",D17<>""),D17-C17,"") | J17: =ROW()
E18: =IF(AND(C18<>"",D18<>""),D18-C18,"") | J18: =ROW()
... E300: =IF(AND(C300<>"",D300<>""),D300-C300,"") | J300: =ROW()

Sheet Как пользоваться
A1: Бесплатный образец шахматки от Hotel OS2 (hotelos2.ru). Можно копировать и менять.
A3: 1. Лист «Брони»: одна строка — одна бронь. Номер, имя гостя, дата заезда и выезда.
A4: 2. Лист «Шахматка»: в ячейке E1 поставьте первый день месяца — даты и брони обновятся сами.
A5: 3. Фиолетовая ячейка — номер занят, в ней имя гостя. Выходные подсвечены.
A6: 4. Добавить номер: допишите его в столбец A шахматки и протяните формулы из строки выше.
A8: Важно:
A9: — Не храните в таблице паспортные данные гостей: это персональные данные (152-ФЗ), их нужно защищать.
A10: — Excel не отправляет уведомления в МВД: сроки — сутки для граждан РФ и 1 рабочий день для иностранцев.
A11: — Если брони приходят с Авито, Суточно, Островка и сайта, таблицу легко забыть обновить — отсюда двойные брони.
A13: Когда таблицы станет мало — шахматка в Hotel OS2 переносит брони мышкой и подтягивает их из каналов: hotelos2.ru
